BEGIN:VCALENDAR
VERSION:2.0
PRODID:http://www.edithstein-trier.de
BEGIN:VEVENT
UID:5dac4299-3ee1-11f1-a3e9-0242ac11002b-1779710400000-de
DTSTAMP:20260423T065508Z
DTSTART:20260525T120000Z
DTEND:20260525T160000Z
SUMMARY;LANGUAGE=de:Begegnungsfest
DESCRIPTION;LANGUAGE=de:Miteinander das Leben feiern
LOCATION;LANGUAGE=de:Schwestern vom Heiligen Geist\, Helenenstraße 21\, 54290 Trier
IMAGE;VALUE=URI;DISPLAY=BADGE;FMTTYPE=image/jpeg:http://www.edithstein-trier.de/export/sites/pfarreien/pfarrei-hl.-edith-stein-trier/.galleries/bilder/171516_pfingsten_macht_die_kirche_bunt_II_by_peter_weidemann_pfarrbriefservice.jpg
URL:http://www.edithstein-trier.de/aktuelles/veranstaltungen/veranstaltung/Begegnungsfest-2026.05.25/
END:VEVENT
END:VCALENDAR
