BEGIN:VCALENDAR
VERSION:2.0
PRODID:http://www.edithstein-trier.de
BEGIN:VEVENT
UID:1709886e-3e5c-11f1-a3e9-0242ac11002b-1787842800000-de
DTSTAMP:20260422T150106Z
DTSTART:20260827T150000Z
DTEND:20260827T160000Z
SUMMARY;LANGUAGE=de:Gartengespräche 
DESCRIPTION;LANGUAGE=de:Frauen sprechen über Gott und die Welt
LOCATION;LANGUAGE=de:Josefsstift\, Franz- Ludwig Straße 7\, 54290 Trier
IMAGE;VALUE=URI;DISPLAY=BADGE;FMTTYPE=image/jpeg:http://www.edithstein-trier.de/export/sites/pfarreien/pfarrei-hl.-edith-stein-trier/.galleries/bilder/Frauenkirche-Josefsstift.png
URL:http://www.edithstein-trier.de/aktuelles/veranstaltungen/veranstaltung/Gartengespraeche-2026.08.27/
END:VEVENT
END:VCALENDAR
