BEGIN:VCALENDAR
VERSION:2.0
PRODID:http://www.edithstein-trier.de
BEGIN:VEVENT
UID:0268027c-3e5c-11f1-a3e9-0242ac11002b-1785423600000-de
DTSTAMP:20260422T150032Z
DTSTART:20260730T150000Z
DTEND:20260730T160000Z
SUMMARY;LANGUAGE=de:Gartengespräche 
DESCRIPTION;LANGUAGE=de:Frauen sprechen über Gott und die Welt
LOCATION;LANGUAGE=de:Josefsstift\, Franz- Ludwig Straße 7\, 54290 Trier
IMAGE;VALUE=URI;DISPLAY=BADGE;FMTTYPE=image/jpeg:http://www.edithstein-trier.de/export/sites/pfarreien/pfarrei-hl.-edith-stein-trier/.galleries/bilder/Frauenkirche-Josefsstift.png
URL:http://www.edithstein-trier.de/aktuelles/veranstaltungen/veranstaltung/Gartengespraeche-2026.07.30/
END:VEVENT
END:VCALENDAR
