BEGIN:VCALENDAR
VERSION:2.0
PRODID:http://www.edithstein-trier.de
BEGIN:VEVENT
UID:063a39ec-3ec3-11f1-a3e9-0242ac11002b-1785513600000-de
DTSTAMP:20260423T031756Z
DTSTART:20260731T160000Z
DTEND:20260731T164500Z
SUMMARY;LANGUAGE=de:Friedensgebet
URL:http://www.edithstein-trier.de/aktuelles/gottesdienste/gottesdienst/Friedensgebet-2026.07.31/
END:VEVENT
END:VCALENDAR
